BEGIN:VCALENDAR
VERSION:2.0
PRODID:-//House Of Faith Church - ECPv6.14.2//NONSGML v1.0//EN
CALSCALE:GREGORIAN
METHOD:PUBLISH
X-ORIGINAL-URL:https://www.houseoffaith.co.za
X-WR-CALDESC:Events for House Of Faith Church
REFRESH-INTERVAL;VALUE=DURATION:PT1H
X-Robots-Tag:noindex
X-PUBLISHED-TTL:PT1H
BEGIN:VTIMEZONE
TZID:Europe/Helsinki
BEGIN:DAYLIGHT
TZOFFSETFROM:+0200
TZOFFSETTO:+0300
TZNAME:EEST
DTSTART:20250330T010000
END:DAYLIGHT
BEGIN:STANDARD
TZOFFSETFROM:+0300
TZOFFSETTO:+0200
TZNAME:EET
DTSTART:20251026T010000
END:STANDARD
END:VTIMEZONE
BEGIN:VEVENT
DTSTART;TZID=Europe/Helsinki:20250912T183000
DTEND;TZID=Europe/Helsinki:20250914T120000
DTSTAMP:20260423T194631
CREATED:20250826T084025Z
LAST-MODIFIED:20250826T084901Z
UID:1916-1757701800-1757851200@www.houseoffaith.co.za
SUMMARY:FAITHLIFE CONFERENCE 2025
DESCRIPTION:Our annual 3-Day Conference with anointed speakers  … \n\nBishop Mosa Sono\nPastor Jacob Msipha\nApostle Eddie Phetla
URL:https://www.houseoffaith.co.za/event/faithlife-conference-2025/
LOCATION:House Of Faith Church\, 130 Plantation Rd\, Blue Hills\, Midrand\, Johannesburg\, Gauteng\, 1686\, South Africa
CATEGORIES:Conferences,Upcoming Events
ATTACH;FMTTYPE=image/jpeg:https://www.houseoffaith.co.za/wp-content/uploads/2025/08/Faithlife-Poster-1920-x-1080-px.jpg
ORGANIZER;CN="House Of Faith":MAILTO:admin@houseoffaith.co.za
END:VEVENT
END:VCALENDAR