BEGIN:VCALENDAR
VERSION:2.0
PRODID:-//House Of Faith Church - ECPv6.14.2//NONSGML v1.0//EN
CALSCALE:GREGORIAN
METHOD:PUBLISH
X-ORIGINAL-URL:https://www.houseoffaith.co.za
X-WR-CALDESC:Events for House Of Faith Church
REFRESH-INTERVAL;VALUE=DURATION:PT1H
X-Robots-Tag:noindex
X-PUBLISHED-TTL:PT1H
BEGIN:VTIMEZONE
TZID:Europe/Helsinki
BEGIN:DAYLIGHT
TZOFFSETFROM:+0200
TZOFFSETTO:+0300
TZNAME:EEST
DTSTART:20250330T010000
END:DAYLIGHT
BEGIN:STANDARD
TZOFFSETFROM:+0300
TZOFFSETTO:+0200
TZNAME:EET
DTSTART:20251026T010000
END:STANDARD
END:VTIMEZONE
BEGIN:VEVENT
DTSTART;TZID=Europe/Helsinki:20251205T080000
DTEND;TZID=Europe/Helsinki:20251205T170000
DTSTAMP:20260423T194810
CREATED:20250826T090340Z
LAST-MODIFIED:20250826T092950Z
UID:1921-1764921600-1764954000@www.houseoffaith.co.za
SUMMARY:SDY Youth Camp 2025
DESCRIPTION:
URL:https://www.houseoffaith.co.za/event/sdy-youth-camp-2025/
LOCATION:Herronbridge Camp\, Herronbridge Camp\, South Africa
CATEGORIES:Camps & Retreats,Our Events
ATTACH;FMTTYPE=image/jpeg:https://www.houseoffaith.co.za/wp-content/uploads/2025/08/SDY-Camp-Poster-Screen.jpg
END:VEVENT
END:VCALENDAR